BEGIN:VCALENDAR
VERSION:2.0
PRODID:-//Our Lady of the Angels - ECPv6.15.17.1//NONSGML v1.0//EN
CALSCALE:GREGORIAN
METHOD:PUBLISH
X-WR-CALNAME:Our Lady of the Angels
X-ORIGINAL-URL:https://www.ourladyoftheangels.net
X-WR-CALDESC:Events for Our Lady of the Angels
REFRESH-INTERVAL;VALUE=DURATION:PT1H
X-Robots-Tag:noindex
X-PUBLISHED-TTL:PT1H
BEGIN:VTIMEZONE
TZID:UTC
BEGIN:STANDARD
TZOFFSETFROM:+0000
TZOFFSETTO:+0000
TZNAME:UTC
DTSTART:20250101T000000
END:STANDARD
END:VTIMEZONE
BEGIN:VEVENT
DTSTART;TZID=UTC:20261010T160000
DTEND;TZID=UTC:20261010T160000
DTSTAMP:20260421T010633
CREATED:20250822T225418Z
LAST-MODIFIED:20250822T225418Z
UID:7346-1791648000-1791648000@www.ourladyoftheangels.net
SUMMARY:Confessions
DESCRIPTION: 
URL:https://www.ourladyoftheangels.net/event/confessions-231/
LOCATION:Our Lady of the Angels\, 35 E. Mechanic St\, Cape May Court House\, NJ\, 08210\, United States
CATEGORIES:Prayer
END:VEVENT
BEGIN:VEVENT
DTSTART;TZID=UTC:20261017T160000
DTEND;TZID=UTC:20261017T160000
DTSTAMP:20260421T010633
CREATED:20250822T225257Z
LAST-MODIFIED:20250822T225257Z
UID:7347-1792252800-1792252800@www.ourladyoftheangels.net
SUMMARY:Confessions
DESCRIPTION: 
URL:https://www.ourladyoftheangels.net/event/confessions-230/
LOCATION:Our Lady of the Angels\, 35 E. Mechanic St\, Cape May Court House\, NJ\, 08210\, United States
CATEGORIES:Prayer
END:VEVENT
BEGIN:VEVENT
DTSTART;TZID=UTC:20261024T160000
DTEND;TZID=UTC:20261024T160000
DTSTAMP:20260421T010633
CREATED:20250822T225254Z
LAST-MODIFIED:20250822T225254Z
UID:7348-1792857600-1792857600@www.ourladyoftheangels.net
SUMMARY:Confessions
DESCRIPTION: 
URL:https://www.ourladyoftheangels.net/event/confessions-229/
LOCATION:Our Lady of the Angels\, 35 E. Mechanic St\, Cape May Court House\, NJ\, 08210\, United States
CATEGORIES:Prayer
END:VEVENT
END:VCALENDAR