BEGIN:VCALENDAR
VERSION:2.0
PRODID:-//Our Lady of the Angels - ECPv6.15.17.1//NONSGML v1.0//EN
CALSCALE:GREGORIAN
METHOD:PUBLISH
X-WR-CALNAME:Our Lady of the Angels
X-ORIGINAL-URL:https://www.ourladyoftheangels.net
X-WR-CALDESC:Events for Our Lady of the Angels
REFRESH-INTERVAL;VALUE=DURATION:PT1H
X-Robots-Tag:noindex
X-PUBLISHED-TTL:PT1H
BEGIN:VTIMEZONE
TZID:UTC
BEGIN:STANDARD
TZOFFSETFROM:+0000
TZOFFSETTO:+0000
TZNAME:UTC
DTSTART:20250101T000000
END:STANDARD
END:VTIMEZONE
BEGIN:VEVENT
DTSTART;TZID=UTC:20260905T160000
DTEND;TZID=UTC:20260905T160000
DTSTAMP:20260421T003802
CREATED:20250822T202627Z
LAST-MODIFIED:20250822T202627Z
UID:7322-1788624000-1788624000@www.ourladyoftheangels.net
SUMMARY:Confessions
DESCRIPTION: 
URL:https://www.ourladyoftheangels.net/event/confessions-224/
LOCATION:Our Lady of the Angels\, 35 E. Mechanic St\, Cape May Court House\, NJ\, 08210\, United States
CATEGORIES:Prayer
END:VEVENT
BEGIN:VEVENT
DTSTART;TZID=UTC:20260912T160000
DTEND;TZID=UTC:20260912T160000
DTSTAMP:20260421T003802
CREATED:20250822T202643Z
LAST-MODIFIED:20250822T202643Z
UID:7323-1789228800-1789228800@www.ourladyoftheangels.net
SUMMARY:Confessions
DESCRIPTION: 
URL:https://www.ourladyoftheangels.net/event/confessions-225/
LOCATION:Our Lady of the Angels\, 35 E. Mechanic St\, Cape May Court House\, NJ\, 08210\, United States
CATEGORIES:Prayer
END:VEVENT
BEGIN:VEVENT
DTSTART;TZID=UTC:20260919T160000
DTEND;TZID=UTC:20260919T160000
DTSTAMP:20260421T003802
CREATED:20250822T202651Z
LAST-MODIFIED:20250822T202651Z
UID:7324-1789833600-1789833600@www.ourladyoftheangels.net
SUMMARY:Confessions
DESCRIPTION: 
URL:https://www.ourladyoftheangels.net/event/confessions-226/
LOCATION:Our Lady of the Angels\, 35 E. Mechanic St\, Cape May Court House\, NJ\, 08210\, United States
CATEGORIES:Prayer
END:VEVENT
BEGIN:VEVENT
DTSTART;TZID=UTC:20260926T160000
DTEND;TZID=UTC:20260926T160000
DTSTAMP:20260421T003802
CREATED:20250822T202654Z
LAST-MODIFIED:20250822T202654Z
UID:7325-1790438400-1790438400@www.ourladyoftheangels.net
SUMMARY:Confessions
DESCRIPTION: 
URL:https://www.ourladyoftheangels.net/event/confessions-227/
LOCATION:Our Lady of the Angels\, 35 E. Mechanic St\, Cape May Court House\, NJ\, 08210\, United States
CATEGORIES:Prayer
END:VEVENT
END:VCALENDAR