BEGIN:VCALENDAR
VERSION:2.0
PRODID:-//Our Lady of the Angels - ECPv6.15.17.1//NONSGML v1.0//EN
CALSCALE:GREGORIAN
METHOD:PUBLISH
X-WR-CALNAME:Our Lady of the Angels
X-ORIGINAL-URL:https://www.ourladyoftheangels.net
X-WR-CALDESC:Events for Our Lady of the Angels
REFRESH-INTERVAL;VALUE=DURATION:PT1H
X-Robots-Tag:noindex
X-PUBLISHED-TTL:PT1H
BEGIN:VTIMEZONE
TZID:UTC
BEGIN:STANDARD
TZOFFSETFROM:+0000
TZOFFSETTO:+0000
TZNAME:UTC
DTSTART:20250101T000000
END:STANDARD
END:VTIMEZONE
BEGIN:VEVENT
DTSTART;TZID=UTC:20260801T160000
DTEND;TZID=UTC:20260801T160000
DTSTAMP:20260420T231432
CREATED:20250816T145801Z
LAST-MODIFIED:20250816T145801Z
UID:7222-1785600000-1785600000@www.ourladyoftheangels.net
SUMMARY:Confessions
DESCRIPTION: 
URL:https://www.ourladyoftheangels.net/event/confessions-221/
LOCATION:Our Lady of the Angels\, 35 E. Mechanic St\, Cape May Court House\, NJ\, 08210\, United States
CATEGORIES:Prayer
END:VEVENT
BEGIN:VEVENT
DTSTART;TZID=UTC:20260808T160000
DTEND;TZID=UTC:20260808T160000
DTSTAMP:20260420T231432
CREATED:20250816T145801Z
LAST-MODIFIED:20250816T145801Z
UID:7225-1786204800-1786204800@www.ourladyoftheangels.net
SUMMARY:Confessions
DESCRIPTION: 
URL:https://www.ourladyoftheangels.net/event/confessions-222/
LOCATION:Our Lady of the Angels\, 35 E. Mechanic St\, Cape May Court House\, NJ\, 08210\, United States
CATEGORIES:Prayer
END:VEVENT
BEGIN:VEVENT
DTSTART;TZID=UTC:20260815T160000
DTEND;TZID=UTC:20260815T160000
DTSTAMP:20260420T231432
CREATED:20250816T144911Z
LAST-MODIFIED:20250816T144911Z
UID:7226-1786809600-1786809600@www.ourladyoftheangels.net
SUMMARY:Confessions
DESCRIPTION: 
URL:https://www.ourladyoftheangels.net/event/confessions-219/
LOCATION:Our Lady of the Angels\, 35 E. Mechanic St\, Cape May Court House\, NJ\, 08210\, United States
CATEGORIES:Prayer
END:VEVENT
BEGIN:VEVENT
DTSTART;TZID=UTC:20260822T160000
DTEND;TZID=UTC:20260822T160000
DTSTAMP:20260420T231432
CREATED:20250816T144910Z
LAST-MODIFIED:20250816T144910Z
UID:7227-1787414400-1787414400@www.ourladyoftheangels.net
SUMMARY:Confessions
DESCRIPTION: 
URL:https://www.ourladyoftheangels.net/event/confessions-218/
LOCATION:Our Lady of the Angels\, 35 E. Mechanic St\, Cape May Court House\, NJ\, 08210\, United States
CATEGORIES:Prayer
END:VEVENT
BEGIN:VEVENT
DTSTART;TZID=UTC:20260829T160000
DTEND;TZID=UTC:20260829T160000
DTSTAMP:20260420T231432
CREATED:20250822T202619Z
LAST-MODIFIED:20250822T202619Z
UID:7321-1788019200-1788019200@www.ourladyoftheangels.net
SUMMARY:Confessions
DESCRIPTION: 
URL:https://www.ourladyoftheangels.net/event/confessions-223/
LOCATION:Our Lady of the Angels\, 35 E. Mechanic St\, Cape May Court House\, NJ\, 08210\, United States
CATEGORIES:Prayer
END:VEVENT
END:VCALENDAR